BEGIN:VCALENDAR
PRODID:-//Date iCal//NONSGML Brightspot CMS//
VERSION:2.0
METHOD:PUBLISH
BEGIN:VEVENT
DTSTAMP:20260420T193154Z
SUMMARY:Critical Security Updates to University Systems
UID:calendar.0000018e-5474-dcc7-a18f-d776e8e70003field_event_date.0@calendar.byu.edu
CREATED:20240319T025332Z
LAST-MODIFIED:20240319T025644Z
LOCATION:Online
DTSTART;TZID=Pacific/Honolulu:20240323T220000
DTEND;TZID=Pacific/Honolulu:20240324T030000
ORGANIZER;CN="Office of Information Technology:MAILTO:help@byuh.edu:TEL::+18086753921":
SUMMARY:Critical Security Updates to University Systems
URL:https://events.byuh.edu/outages-detours-and-closures/critical-security-updates-to-university-systems-2024-03-23
END:VEVENT
BEGIN:VTIMEZONE
TZID:Pacific/Honolulu
TZURL:http://tzurl.org/zoneinfo/Pacific/Honolulu
X-LIC-LOCATION:Pacific/Honolulu
BEGIN:STANDARD
TZOFFSETFROM:-103126
TZOFFSETTO:-1030
TZNAME:HST
DTSTART:18960113T120000
RDATE:18960113T120000
END:STANDARD
BEGIN:DAYLIGHT
TZOFFSETFROM:-1030
TZOFFSETTO:-0930
TZNAME:HDT
DTSTART:19330430T020000
RDATE:19330430T020000
END:DAYLIGHT
BEGIN:STANDARD
TZOFFSETFROM:-0930
TZOFFSETTO:-1030
TZNAME:HST
DTSTART:19330521T120000
RDATE:19330521T120000
RDATE:19450930T020000
END:STANDARD
BEGIN:DAYLIGHT
TZOFFSETFROM:-1030
TZOFFSETTO:-0930
TZNAME:HWT
DTSTART:19420209T020000
RDATE:19420209T020000
END:DAYLIGHT
BEGIN:DAYLIGHT
TZOFFSETFROM:-0930
TZOFFSETTO:-0930
TZNAME:HPT
DTSTART:19450814T133000
RDATE:19450814T133000
END:DAYLIGHT
BEGIN:STANDARD
TZOFFSETFROM:-1030
TZOFFSETTO:-1000
TZNAME:HST
DTSTART:19470608T020000
RDATE:19470608T020000
END:STANDARD
END:VTIMEZONE
END:VCALENDAR
