BEGIN:VCALENDAR
PRODID:-//Date iCal//NONSGML Brightspot CMS//
VERSION:2.0
METHOD:PUBLISH
BEGIN:VEVENT
DTSTAMP:20260421T010338Z
SUMMARY:How To Be Your Own 911 Workshop: Supplies and Food Storage
UID:calendar.0000018d-6756-dc79-a5af-67d610d90000field_event_date.0@calendar.byu.edu
CREATED:20240202T012013Z
LAST-MODIFIED:20240202T012013Z
LOCATION:Aloha Center Room 155/165
DTSTART;TZID=Pacific/Honolulu:20240321T180000
DTEND;TZID=Pacific/Honolulu:20240321T190000
ORGANIZER;CN=Campus Safety & Security:
SUMMARY:How To Be Your Own 911 Workshop: Supplies and Food Storage
URL:https://events.byuh.edu/workshops-and-training/how-to-be-your-own-911-workshop-supplies-and-food-storage-2024-03-21
END:VEVENT
BEGIN:VTIMEZONE
TZID:Pacific/Honolulu
TZURL:http://tzurl.org/zoneinfo/Pacific/Honolulu
X-LIC-LOCATION:Pacific/Honolulu
BEGIN:STANDARD
TZOFFSETFROM:-103126
TZOFFSETTO:-1030
TZNAME:HST
DTSTART:18960113T120000
RDATE:18960113T120000
END:STANDARD
BEGIN:DAYLIGHT
TZOFFSETFROM:-1030
TZOFFSETTO:-0930
TZNAME:HDT
DTSTART:19330430T020000
RDATE:19330430T020000
END:DAYLIGHT
BEGIN:STANDARD
TZOFFSETFROM:-0930
TZOFFSETTO:-1030
TZNAME:HST
DTSTART:19330521T120000
RDATE:19330521T120000
RDATE:19450930T020000
END:STANDARD
BEGIN:DAYLIGHT
TZOFFSETFROM:-1030
TZOFFSETTO:-0930
TZNAME:HWT
DTSTART:19420209T020000
RDATE:19420209T020000
END:DAYLIGHT
BEGIN:DAYLIGHT
TZOFFSETFROM:-0930
TZOFFSETTO:-0930
TZNAME:HPT
DTSTART:19450814T133000
RDATE:19450814T133000
END:DAYLIGHT
BEGIN:STANDARD
TZOFFSETFROM:-1030
TZOFFSETTO:-1000
TZNAME:HST
DTSTART:19470608T020000
RDATE:19470608T020000
END:STANDARD
END:VTIMEZONE
END:VCALENDAR
